BEGIN:VCALENDAR
VERSION:2.0
PRODID:-//NCO Formations Globales - ECPv6.15.13//NONSGML v1.0//EN
CALSCALE:GREGORIAN
METHOD:PUBLISH
X-ORIGINAL-URL:https://nco.fr
X-WR-CALDESC:Évènements pour NCO Formations Globales
REFRESH-INTERVAL;VALUE=DURATION:PT1H
X-Robots-Tag:noindex
X-PUBLISHED-TTL:PT1H
BEGIN:VTIMEZONE
TZID:Europe/Paris
BEGIN:DAYLIGHT
TZOFFSETFROM:+0100
TZOFFSETTO:+0200
TZNAME:CEST
DTSTART:20240331T010000
END:DAYLIGHT
BEGIN:STANDARD
TZOFFSETFROM:+0200
TZOFFSETTO:+0100
TZNAME:CET
DTSTART:20241027T010000
END:STANDARD
BEGIN:DAYLIGHT
TZOFFSETFROM:+0100
TZOFFSETTO:+0200
TZNAME:CEST
DTSTART:20250330T010000
END:DAYLIGHT
BEGIN:STANDARD
TZOFFSETFROM:+0200
TZOFFSETTO:+0100
TZNAME:CET
DTSTART:20251026T010000
END:STANDARD
BEGIN:DAYLIGHT
TZOFFSETFROM:+0100
TZOFFSETTO:+0200
TZNAME:CEST
DTSTART:20260329T010000
END:DAYLIGHT
BEGIN:STANDARD
TZOFFSETFROM:+0200
TZOFFSETTO:+0100
TZNAME:CET
DTSTART:20261025T010000
END:STANDARD
END:VTIMEZONE
BEGIN:VEVENT
DTSTART;VALUE=DATE:20251120
DTEND;VALUE=DATE:20251123
DTSTAMP:20260422T011127
CREATED:20250122T183551Z
LAST-MODIFIED:20250122T183551Z
UID:6855-1763636400-1763809199@nco.fr
SUMMARY:RECYCLAGE
DESCRIPTION:« Tous les Évènements\n 				\n				\n				\n				\n					\n	RECYCLAGE				\n				\n				\n				\n					\n	\n	Date et heure :	\n			12 novembre 2026\n\n		\n	\n	  -  \n\n	14 novembre 2026\n\n	\n				\n				\n					\n				\n		\n					\n				\n				\n									\n					\n						\n									Fiche de la formation\n					\n					\n				\n								\n				\n				\n				\n					Je souhaite m’inscrire à cette formation				\n				\n					\n				\n		\n					\n		\n				\n				\n							\n\n  \n\n\n\n Votre nom\n\n\n \n Votre e-mail\n\n\n \n Votre N° de téléphone\n\n\n \n Objet\n\n\n \n Votre message (facultatif)\n\n\n \n		\n				\n		\n		\n \n\n\n\n						\n				\n				\n		\n				\n				\n					\n				\n				\n	\n	Niort – NCO FG\n	\n	\n\n5 rue André Galle\n	\n		\n		Niort\,\n\n\n	79000\n\n	France\n\n\n\n\n	+ Google Map \n\n\n	\n					\n						\n	 \n\n\n	\n	 \n\n\n\n	\n\n\n\n		\n	\n				\n				\n				\n				\n					\n	\n	NCO Formations Globales\n	\n	\n\n	Téléphone :\n					\n			05 46 83 25 03			\n	 \n\n\n	\n\n	Site :Voir le site Organisateur \n\n\n	\n	E-mail :\n					\n			contact@nco.fr
URL:https://nco.fr/calendrier/recyclage-11/
LOCATION:Niort – NCO FG\, 5 rue André Galle\, Niort\, 79000\, France
CATEGORIES:Habilitation élétricque
ORGANIZER;CN="NCO Formations Globales":MAILTO:contact@nco.fr
END:VEVENT
BEGIN:VEVENT
DTSTART;VALUE=DATE:20251120
DTEND;VALUE=DATE:20251122
DTSTAMP:20260422T011128
CREATED:20250127T083209Z
LAST-MODIFIED:20250127T083209Z
UID:7101-1763636400-1763722799@nco.fr
SUMMARY:HOB0
DESCRIPTION:« Tous les Évènements\n 				\n				\n				\n				\n					\n	RECYCLAGE				\n				\n				\n				\n					\n	\n	Date et heure :	\n			12 novembre 2026\n\n		\n	\n	  -  \n\n	14 novembre 2026\n\n	\n				\n				\n					\n				\n		\n					\n				\n				\n									\n					\n						\n									Fiche de la formation\n					\n					\n				\n								\n				\n				\n				\n					Je souhaite m’inscrire à cette formation				\n				\n					\n				\n		\n					\n		\n				\n				\n							\n\n  \n\n\n\n Votre nom\n\n\n \n Votre e-mail\n\n\n \n Votre N° de téléphone\n\n\n \n Objet\n\n\n \n Votre message (facultatif)\n\n\n \n		\n				\n		\n		\n \n\n\n\n						\n				\n				\n		\n				\n				\n					\n				\n				\n	\n	Niort – NCO FG\n	\n	\n\n5 rue André Galle\n	\n		\n		Niort\,\n\n\n	79000\n\n	France\n\n\n\n\n	+ Google Map \n\n\n	\n					\n						\n	 \n\n\n	\n	 \n\n\n\n	\n\n\n\n		\n	\n				\n				\n				\n				\n					\n	\n	NCO Formations Globales\n	\n	\n					\n			05 46 83 25 03			\n	 \n\n\n	Voir le site Organisateur \n\n\n	\n					\n			contact@nco.fr
URL:https://nco.fr/calendrier/hob0-11/
LOCATION:Niort – NCO FG\, 5 rue André Galle\, Niort\, 79000\, France
CATEGORIES:Habilitation élétricque
ORGANIZER;CN="NCO Formations Globales":MAILTO:contact@nco.fr
END:VEVENT
BEGIN:VEVENT
DTSTART;VALUE=DATE:20251120
DTEND;VALUE=DATE:20251123
DTSTAMP:20260422T011128
CREATED:20250127T084642Z
LAST-MODIFIED:20250127T084642Z
UID:7110-1763636400-1763809199@nco.fr
SUMMARY:BS BE. MANOEUVRE
DESCRIPTION:« Tous les Évènements\n 				\n				\n				\n				\n					\n	RECYCLAGE				\n				\n				\n				\n					\n	\n	Date et heure :	\n			12 novembre 2026\n\n		\n	\n	  -  \n\n	14 novembre 2026\n\n	\n				\n				\n					\n				\n		\n					\n				\n				\n									\n					\n						\n									Fiche de la formation\n					\n					\n				\n								\n				\n				\n				\n					Je souhaite m’inscrire à cette formation				\n				\n					\n				\n		\n					\n		\n				\n				\n							\n\n  \n\n\n\n Votre nom\n\n\n \n Votre e-mail\n\n\n \n Votre N° de téléphone\n\n\n \n Objet\n\n\n \n Votre message (facultatif)\n\n\n \n		\n				\n		\n		\n \n\n\n\n						\n				\n				\n		\n				\n				\n					\n				\n				\n	\n	Niort – NCO FG\n	\n	\n\n5 rue André Galle\n	\n		\n		Niort\,\n\n\n	79000\n\n	France\n\n\n\n\n	+ Google Map \n\n\n	\n					\n						\n	 \n\n\n	\n	 \n\n\n\n	\n\n\n\n		\n	\n				\n				\n				\n				\n					\n	\n	NCO Formations Globales\n	\n	\n					\n			05 46 83 25 03			\n	 \n\n\n	Voir le site Organisateur \n\n\n	\n					\n			contact@nco.fr
URL:https://nco.fr/calendrier/bs-be-manoeuvre-5/
LOCATION:Niort – NCO FG\, 5 rue André Galle\, Niort\, 79000\, France
CATEGORIES:Habilitation élétricque
ORGANIZER;CN="NCO Formations Globales":MAILTO:contact@nco.fr
END:VEVENT
END:VCALENDAR